BEGIN:VCALENDAR
VERSION:2.0
PRODID:-//FACTS About Fertility - ECPv6.15.20//NONSGML v1.0//EN
CALSCALE:GREGORIAN
METHOD:PUBLISH
X-WR-CALNAME:FACTS About Fertility
X-ORIGINAL-URL:https://www.factsaboutfertility.org
X-WR-CALDESC:Events for FACTS About Fertility
REFRESH-INTERVAL;VALUE=DURATION:PT1H
X-Robots-Tag:noindex
X-PUBLISHED-TTL:PT1H
BEGIN:VTIMEZONE
TZID:America/New_York
BEGIN:DAYLIGHT
TZOFFSETFROM:-0500
TZOFFSETTO:-0400
TZNAME:EDT
DTSTART:20250309T070000
END:DAYLIGHT
BEGIN:STANDARD
TZOFFSETFROM:-0400
TZOFFSETTO:-0500
TZNAME:EST
DTSTART:20251102T060000
END:STANDARD
BEGIN:DAYLIGHT
TZOFFSETFROM:-0500
TZOFFSETTO:-0400
TZNAME:EDT
DTSTART:20260308T070000
END:DAYLIGHT
BEGIN:STANDARD
TZOFFSETFROM:-0400
TZOFFSETTO:-0500
TZNAME:EST
DTSTART:20261101T060000
END:STANDARD
BEGIN:DAYLIGHT
TZOFFSETFROM:-0500
TZOFFSETTO:-0400
TZNAME:EDT
DTSTART:20270314T070000
END:DAYLIGHT
BEGIN:STANDARD
TZOFFSETFROM:-0400
TZOFFSETTO:-0500
TZNAME:EST
DTSTART:20271107T060000
END:STANDARD
END:VTIMEZONE
BEGIN:VEVENT
DTSTART;TZID=America/New_York:20260608T150000
DTEND;TZID=America/New_York:20260608T160000
DTSTAMP:20260425T082549
CREATED:20251230T170404Z
LAST-MODIFIED:20251230T170404Z
UID:130449-1780930800-1780934400@www.factsaboutfertility.org
SUMMARY:Case Study – June 2026 – hosted by IIRRM
DESCRIPTION:
URL:https://www.factsaboutfertility.org/event/case-study-june-2026-hosted-by-iirrm/
CATEGORIES:Case Studies
END:VEVENT
BEGIN:VEVENT
DTSTART;TZID=America/New_York:20260617T200000
DTEND;TZID=America/New_York:20260617T210000
DTSTAMP:20260425T082549
CREATED:20260127T155626Z
LAST-MODIFIED:20260127T155626Z
UID:131229-1781726400-1781730000@www.factsaboutfertility.org
SUMMARY:Community Connects Call: June 17th @ 8-9 pm ET
DESCRIPTION:
URL:https://www.factsaboutfertility.org/event/community-connects-call-june-17th-8-9-pm-et/
CATEGORIES:Community Connects
ATTACH;FMTTYPE=image/jpeg:https://www.factsaboutfertility.org/wp-content/uploads/2025/12/Community-Connects-email-header.jpg
END:VEVENT
END:VCALENDAR