BEGIN:VCALENDAR
VERSION:2.0
PRODID:-//FACTS About Fertility - ECPv6.15.20//NONSGML v1.0//EN
CALSCALE:GREGORIAN
METHOD:PUBLISH
X-WR-CALNAME:FACTS About Fertility
X-ORIGINAL-URL:https://www.factsaboutfertility.org
X-WR-CALDESC:Events for FACTS About Fertility
REFRESH-INTERVAL;VALUE=DURATION:PT1H
X-Robots-Tag:noindex
X-PUBLISHED-TTL:PT1H
BEGIN:VTIMEZONE
TZID:America/New_York
BEGIN:DAYLIGHT
TZOFFSETFROM:-0500
TZOFFSETTO:-0400
TZNAME:EDT
DTSTART:20250309T070000
END:DAYLIGHT
BEGIN:STANDARD
TZOFFSETFROM:-0400
TZOFFSETTO:-0500
TZNAME:EST
DTSTART:20251102T060000
END:STANDARD
BEGIN:DAYLIGHT
TZOFFSETFROM:-0500
TZOFFSETTO:-0400
TZNAME:EDT
DTSTART:20260308T070000
END:DAYLIGHT
BEGIN:STANDARD
TZOFFSETFROM:-0400
TZOFFSETTO:-0500
TZNAME:EST
DTSTART:20261101T060000
END:STANDARD
BEGIN:DAYLIGHT
TZOFFSETFROM:-0500
TZOFFSETTO:-0400
TZNAME:EDT
DTSTART:20270314T070000
END:DAYLIGHT
BEGIN:STANDARD
TZOFFSETFROM:-0400
TZOFFSETTO:-0500
TZNAME:EST
DTSTART:20271107T060000
END:STANDARD
END:VTIMEZONE
BEGIN:VEVENT
DTSTART;TZID=America/New_York:20260202T130000
DTEND;TZID=America/New_York:20260202T140000
DTSTAMP:20260425T070225
CREATED:20251230T165749Z
LAST-MODIFIED:20251230T165809Z
UID:130440-1770037200-1770040800@www.factsaboutfertility.org
SUMMARY:Case Study – February 2026 - hosted by FACTS
DESCRIPTION:
URL:https://www.factsaboutfertility.org/event/case-study-february-2026-hosted-by-facts/
CATEGORIES:Case Studies
END:VEVENT
BEGIN:VEVENT
DTSTART;TZID=America/New_York:20260218T200000
DTEND;TZID=America/New_York:20260218T210000
DTSTAMP:20260425T070225
CREATED:20260213T155836Z
LAST-MODIFIED:20260213T155836Z
UID:131484-1771444800-1771448400@www.factsaboutfertility.org
SUMMARY:Community Connects Call: February 18th @ 8 pm ET
DESCRIPTION:Join us for an evening of community connection. We’re excited to welcome special guest Dr. Joseph Davis\, an infertility expert and the Director of the FACTS FIRM Fellowship.
URL:https://www.factsaboutfertility.org/event/community-connects-call-february-18th-8-pm-et/
CATEGORIES:Community Connects
ATTACH;FMTTYPE=image/jpeg:https://www.factsaboutfertility.org/wp-content/uploads/2026/02/Community-Connects-scaled.jpg
END:VEVENT
BEGIN:VEVENT
DTSTART;TZID=America/New_York:20260226T130000
DTEND;TZID=America/New_York:20260226T170000
DTSTAMP:20260425T070225
CREATED:20260120T144056Z
LAST-MODIFIED:20260120T144056Z
UID:130911-1772110800-1772125200@www.factsaboutfertility.org
SUMMARY:The Foundational FACTS of the Female Cycle
DESCRIPTION:Join us in Seattle\, WA for a FACTS Pre-Conference\nThursday\, February 26\, 2026\, 1:00pm – 5:00pm \nMaster the facts about the fifth vital sign – the female cycle – in this timely workshop led by Dr. Marguerite Duane and leading experts in fertility awareness-based methods and restorative reproductive medicine. Learn how cycle charts can be used as diagnostic tools. Become a first trimester care expert. Engage in small group case studies discussing common concerns in women’s health.  \nConference Location: Sheraton Grand Seattle \nRegister here
URL:https://www.factsaboutfertility.org/event/the-foundational-facts-of-the-female-cycle/
CATEGORIES:Conferences
ATTACH;FMTTYPE=image/png:https://www.factsaboutfertility.org/wp-content/uploads/2025/12/mbec-slider-1-1.png
END:VEVENT
END:VCALENDAR