BEGIN:VCALENDAR
VERSION:2.0
PRODID:-//FACTS About Fertility - ECPv6.15.20//NONSGML v1.0//EN
CALSCALE:GREGORIAN
METHOD:PUBLISH
X-WR-CALNAME:FACTS About Fertility
X-ORIGINAL-URL:https://www.factsaboutfertility.org
X-WR-CALDESC:Events for FACTS About Fertility
REFRESH-INTERVAL;VALUE=DURATION:PT1H
X-Robots-Tag:noindex
X-PUBLISHED-TTL:PT1H
BEGIN:VTIMEZONE
TZID:America/New_York
BEGIN:DAYLIGHT
TZOFFSETFROM:-0500
TZOFFSETTO:-0400
TZNAME:EDT
DTSTART:20250309T070000
END:DAYLIGHT
BEGIN:STANDARD
TZOFFSETFROM:-0400
TZOFFSETTO:-0500
TZNAME:EST
DTSTART:20251102T060000
END:STANDARD
BEGIN:DAYLIGHT
TZOFFSETFROM:-0500
TZOFFSETTO:-0400
TZNAME:EDT
DTSTART:20260308T070000
END:DAYLIGHT
BEGIN:STANDARD
TZOFFSETFROM:-0400
TZOFFSETTO:-0500
TZNAME:EST
DTSTART:20261101T060000
END:STANDARD
BEGIN:DAYLIGHT
TZOFFSETFROM:-0500
TZOFFSETTO:-0400
TZNAME:EDT
DTSTART:20270314T070000
END:DAYLIGHT
BEGIN:STANDARD
TZOFFSETFROM:-0400
TZOFFSETTO:-0500
TZNAME:EST
DTSTART:20271107T060000
END:STANDARD
END:VTIMEZONE
BEGIN:VEVENT
DTSTART;VALUE=DATE:20260410
DTEND;VALUE=DATE:20260412
DTSTAMP:20260425T070205
CREATED:20260120T144539Z
LAST-MODIFIED:20260120T144539Z
UID:130914-1775779200-1775951999@www.factsaboutfertility.org
SUMMARY:2026 FACTS Annual Conference
DESCRIPTION:This year’s annual conference\, FACTS for Restoring Reproductive & Whole Body Health\, will focus on three main areas of : endocrine\, surgery\, and mental health\, plus more! \nEarly Bird Registration through February 28\, 2026!\nThank you to our host and sponsor\, OSF Healthcare!\nRegister here
URL:https://www.factsaboutfertility.org/event/2026-facts-annual-conference/
CATEGORIES:Conferences
ATTACH;FMTTYPE=image/jpeg:https://www.factsaboutfertility.org/wp-content/uploads/2025/11/Homepage-Slider-Peoria.jpg
END:VEVENT
END:VCALENDAR